BEGIN:VCALENDAR
VERSION:2.0
PRODID:-//eventon.com NONSGML v1.0//EN
CALSCALE:GREGORIAN
METHOD:PUBLISH
BEGIN:VEVENT
UID:69e7347dd3aba
DTSTAMP:20260421T082533Z
DTSTART:20250924T193000Z
DTEND:20250924T213000Z
LOCATION:Ilminster Arts Centre East Street\,  Ilminster TA19 0AN
SUMMARY:Invasive non-native species - Colin Ryall
DESCRIPTION:\nhttps://greenilminster.org.uk/events/invasive-non-native-spec
 ies-colin-ryall/
URL:https://greenilminster.org.uk/events/invasive-non-native-species-colin-ryall/
END:VEVENT
END:VCALENDAR