BEGIN:VCALENDAR
VERSION:2.0
PRODID:-//eventon.com NONSGML v1.0//EN
CALSCALE:GREGORIAN
METHOD:PUBLISH
BEGIN:VEVENT
UID:69e575abac71d
DTSTAMP:20260420T003907Z
DTSTART:20260514T180000Z
DTEND:20260514T200000Z
LOCATION:Minster Rooms Minster Rooms\,  Court Barton\,  Ilminster TA19 0DU
SUMMARY:People's Emergency Briefing
DESCRIPTION:Green Ilminster is pleased to be working with the Ilminster Tow
 n Council and The Minster Church to organise the showing of this brand new 
 film. It is aimed at enhancing public awareness of climate and environmenta
 l risks. The film was produced by the National Emergency Briefing team\,  a
 nd highlights how[..]\nhttps://greenilminster.org.uk/events/peoples-emergen
 cy-briefing/
URL:https://greenilminster.org.uk/events/peoples-emergency-briefing/
END:VEVENT
END:VCALENDAR