BEGIN:VCALENDAR
VERSION:2.0
PRODID:-//eventon.com NONSGML v1.0//EN
CALSCALE:GREGORIAN
METHOD:PUBLISH
BEGIN:VEVENT
UID:69e575513991b
DTSTAMP:20260420T003737Z
DTSTART:20260528T193000Z
DTEND:20260528T213000Z
LOCATION:Medical Centre\,  Canal Way\,  Ilminster TA19 9FE
SUMMARY:Bat Walk - led by Emma Baker
DESCRIPTION:In association with The Bat Conservation Trust and Somerset Bat
  Group\,  Green Ilminster invites you to attend a Bat Walk The number of at
 tendees for this event is strictly limited so you will need to book to ensu
 re you have a place reserved – Please email info@greenilminster.org.uk to
  make a[..]\nhttps://greenilminster.org.uk/events/bat-walk-led-by-emma-bake
 r/
URL:https://greenilminster.org.uk/events/bat-walk-led-by-emma-baker/
END:VEVENT
END:VCALENDAR