BEGIN:VCALENDAR
VERSION:2.0
PRODID:-//eventon.com NONSGML v1.0//EN
CALSCALE:GREGORIAN
METHOD:PUBLISH
BEGIN:VEVENT
UID:69e5758b0b0a1
DTSTAMP:20260420T003835Z
DTSTART:20260510T130000Z
DTEND:20260510T143000Z
LOCATION:The Well @ Ilminster Recreation Ground
SUMMARY:Maytime Bird Walk - led by Colin Hyde
DESCRIPTION:Green Ilminster invites you to attend a Maytime Bird Walk. This
  event is timed to coincide with Half-Term\,  with the aim of encouraging b
 oth children and adults to take part. The Ilminster Rec and Herne Hill have
  become designated Greenspaces for the purpose of a British Trust for Ornit
 hology (BTO)[..]\nhttps://greenilminster.org.uk/events/maytime-bird-walk-le
 d-by-colin-hyde/
URL:https://greenilminster.org.uk/events/maytime-bird-walk-led-by-colin-hyde/
END:VEVENT
END:VCALENDAR